BEGIN:VCALENDAR
VERSION:2.0
PRODID:-//Italix Designs-Your Exhibition Partner in Europe, Germany, USA and UAE. - ECPv6.15.20//NONSGML v1.0//EN
CALSCALE:GREGORIAN
METHOD:PUBLISH
X-ORIGINAL-URL:https://italixdesigns.de
X-WR-CALDESC:Events for Italix Designs-Your Exhibition Partner in Europe, Germany, USA and UAE.
REFRESH-INTERVAL;VALUE=DURATION:PT1H
X-Robots-Tag:noindex
X-PUBLISHED-TTL:PT1H
BEGIN:VTIMEZONE
TZID:UTC
BEGIN:STANDARD
TZOFFSETFROM:+0000
TZOFFSETTO:+0000
TZNAME:UTC
DTSTART:20240101T000000
END:STANDARD
END:VTIMEZONE
BEGIN:VEVENT
DTSTART;TZID=UTC:20251104T080000
DTEND;TZID=UTC:20251107T170000
DTSTAMP:20260424T154510
CREATED:20250606T102749Z
LAST-MODIFIED:20250606T102749Z
UID:7263-1762243200-1762534800@italixdesigns.de
SUMMARY:A+A
DESCRIPTION:A+A 2025: Trade Fair and Congress\nA+A is the world’s largest and most important event when it comes to safety\, security and health at work and will next take place in Düsseldorf from 4-7 November 2025. \nThe trade fair focuses on innovations and presents new products and solutions that help to make the world of work safer\, more efficient and healthier. New approaches and technologies that are applied across the industry can ensure better occupational health and safety and occupational safety. A+A is also the largest platform for workwear and corporate fashion.
URL:https://italixdesigns.de/event/aa/
LOCATION:Messe Dusseldorf\, Dusseldorf\, Germany
END:VEVENT
BEGIN:VEVENT
DTSTART;TZID=UTC:20251109T080000
DTEND;TZID=UTC:20251115T170000
DTSTAMP:20260424T154510
CREATED:20250606T062708Z
LAST-MODIFIED:20250606T064342Z
UID:7248-1762675200-1763226000@italixdesigns.de
SUMMARY:Agritechnica 2025
DESCRIPTION:AGRITECHNICA – Welcome to the world’s leading trade fair for agricultural machinery\n\nUnder the guiding theme “Touch Smart Efficiency”\, AGRITECHNICA 2025 gives visitors direct access to innovative\, networked agricultural systems that use digital technologies to increase efficiency\, sustainability and productivity. Meet global players\, secret champions\, innovators and visionaries. They all present solutions for the challenges of global crop production. \n9 – 15 November 2025 | Hanover\, Germany
URL:https://italixdesigns.de/event/agritechnica/
LOCATION:Messe Hanover\, Hanover\, Germany
END:VEVENT
BEGIN:VEVENT
DTSTART;TZID=UTC:20260222T080000
DTEND;TZID=UTC:20260226T170000
DTSTAMP:20260424T154510
CREATED:20251119T062555Z
LAST-MODIFIED:20251119T062555Z
UID:7757-1771747200-1772125200@italixdesigns.de
SUMMARY:EuroShop Düsseldorf 2026
DESCRIPTION:Euroshop Dusseldorf trade show is great news for retail business! The retail world will connect together at Dusseldorf\, Germany with International Trade audience. If you are looking forward to showcase
URL:https://italixdesigns.de/event/euroshop-dusseldorf-2026/
LOCATION:Dusseldorf\, Germany Germany\, Dusseldorf\, Germany\, Germany\, Germany
END:VEVENT
BEGIN:VEVENT
DTSTART;TZID=UTC:20260307T080000
DTEND;TZID=UTC:20260313T170000
DTSTAMP:20260424T154510
CREATED:20251119T062153Z
LAST-MODIFIED:20251119T062302Z
UID:7754-1772870400-1773421200@italixdesigns.de
SUMMARY:Interpack 2026
DESCRIPTION:Interpack 2026 is the world’s largest processes and packaging trade fair. This show will be held in three years’ time from May 2026 in Düsseldorf Germany. Leading exhibitors with high spirits will present their latest ideas\, innovate concepts\, and technological visions. Interpack 2026 Dusseldorf will now take place from 7 May to 13 May 2026 at Dusseldorf\, Germany.
URL:https://italixdesigns.de/event/interpack-2026/
LOCATION:Messe Dusseldorf\, Dusseldorf\, Germany
END:VEVENT
BEGIN:VEVENT
DTSTART;TZID=UTC:20260601T080000
DTEND;TZID=UTC:20260606T170000
DTSTAMP:20260424T154510
CREATED:20251119T094132Z
LAST-MODIFIED:20251119T094132Z
UID:7760-1780300800-1780765200@italixdesigns.de
SUMMARY:INTERSCHUTZ 2026
DESCRIPTION:We invite you to attend the leading expo Interschutz 2026\, which is famous for firefighting\, rescue services\, and disaster relief services. The event is organized once every five years. This year Interschutz 2026 will be taking place from June 1- June 6\, 2026\, in Messe Hannover\, Germany.
URL:https://italixdesigns.de/event/interschutz-2026/
LOCATION:Hannover\, Germany\, Germany\, Germany\, Germany
END:VEVENT
END:VCALENDAR