BEGIN:VCALENDAR
VERSION:2.0
PRODID:-//Italix Designs-Your Exhibition Partner in Europe, Germany, USA and UAE. - ECPv6.15.20//NONSGML v1.0//EN
CALSCALE:GREGORIAN
METHOD:PUBLISH
X-WR-CALNAME:Italix Designs-Your Exhibition Partner in Europe, Germany, USA and UAE.
X-ORIGINAL-URL:https://italixdesigns.de
X-WR-CALDESC:Events for Italix Designs-Your Exhibition Partner in Europe, Germany, USA and UAE.
REFRESH-INTERVAL;VALUE=DURATION:PT1H
X-Robots-Tag:noindex
X-PUBLISHED-TTL:PT1H
BEGIN:VTIMEZONE
TZID:UTC
BEGIN:STANDARD
TZOFFSETFROM:+0000
TZOFFSETTO:+0000
TZNAME:UTC
DTSTART:20240101T000000
END:STANDARD
END:VTIMEZONE
BEGIN:VEVENT
DTSTART;TZID=UTC:20251109T080000
DTEND;TZID=UTC:20251115T170000
DTSTAMP:20260421T225301
CREATED:20250606T062708Z
LAST-MODIFIED:20250606T064342Z
UID:7248-1762675200-1763226000@italixdesigns.de
SUMMARY:Agritechnica 2025
DESCRIPTION:AGRITECHNICA – Welcome to the world’s leading trade fair for agricultural machinery\n\nUnder the guiding theme “Touch Smart Efficiency”\, AGRITECHNICA 2025 gives visitors direct access to innovative\, networked agricultural systems that use digital technologies to increase efficiency\, sustainability and productivity. Meet global players\, secret champions\, innovators and visionaries. They all present solutions for the challenges of global crop production. \n9 – 15 November 2025 | Hanover\, Germany
URL:https://italixdesigns.de/event/agritechnica/
LOCATION:Messe Hanover\, Hanover\, Germany
END:VEVENT
BEGIN:VEVENT
DTSTART;TZID=UTC:20251104T080000
DTEND;TZID=UTC:20251107T170000
DTSTAMP:20260421T225301
CREATED:20250606T102749Z
LAST-MODIFIED:20250606T102749Z
UID:7263-1762243200-1762534800@italixdesigns.de
SUMMARY:A+A
DESCRIPTION:A+A 2025: Trade Fair and Congress\nA+A is the world’s largest and most important event when it comes to safety\, security and health at work and will next take place in Düsseldorf from 4-7 November 2025. \nThe trade fair focuses on innovations and presents new products and solutions that help to make the world of work safer\, more efficient and healthier. New approaches and technologies that are applied across the industry can ensure better occupational health and safety and occupational safety. A+A is also the largest platform for workwear and corporate fashion.
URL:https://italixdesigns.de/event/aa/
LOCATION:Messe Dusseldorf\, Dusseldorf\, Germany
END:VEVENT
BEGIN:VEVENT
DTSTART;TZID=UTC:20251008T080000
DTEND;TZID=UTC:20251015T170000
DTSTAMP:20260421T225301
CREATED:20250611T054119Z
LAST-MODIFIED:20250611T054119Z
UID:7291-1759910400-1760547600@italixdesigns.de
SUMMARY:K-SHOW 2025
DESCRIPTION:K 2025 offers a wide range of topics around machinery and equipment\, including plastics processing as well as machinery for reprocessing and recycling. Also represented are the sectors of semi-finished products & technical parts as well as a variety of raw materials and auxiliary materials\, such as thermoplastics\, elastomers\, resins\, compounds and intermediate products. In addition\, companies will present their products and services in the field of IT services and leasing for the production of plastics. In addition\, representatives from science and consulting can be found at the plastics fair.
URL:https://italixdesigns.de/event/k-show-2025/
LOCATION:Messe Dusseldorf\, Dusseldorf\, Germany
END:VEVENT
BEGIN:VEVENT
DTSTART;TZID=UTC:20251008T080000
DTEND;TZID=UTC:20251015T170000
DTSTAMP:20260421T225301
CREATED:20250606T065206Z
LAST-MODIFIED:20250606T065206Z
UID:7254-1759910400-1760547600@italixdesigns.de
SUMMARY:K 2025 - The World's No. 1 Trade Fair for Plastics and Rubber
DESCRIPTION:Discover the future of the plastics and rubber industry\n\n\n\n\n \n \n \n \n \nK Trade Fair 2025: the plastics and rubber industry’s globally unique ideas event\n\n\n\nK 2025 is an unparalleled meeting place for industry leaders\, offering new inspiration and pioneering trends. This is where new contacts are forged and new contracts are concluded that will shape the future of the plastics and rubber industry. Experience the beginning of a new era – it all starts at K.
URL:https://italixdesigns.de/event/k-2025-the-worlds-no-1-trade-fair-for-plastics-and-rubber/
LOCATION:Messe Dusseldorf\, Dusseldorf\, Germany
END:VEVENT
BEGIN:VEVENT
DTSTART;TZID=UTC:20250915T080000
DTEND;TZID=UTC:20250919T170000
DTSTAMP:20260421T225301
CREATED:20250611T053545Z
LAST-MODIFIED:20250611T053833Z
UID:7289-1757923200-1758301200@italixdesigns.de
SUMMARY:Drinktec 2025
DESCRIPTION:As the world economic summit for the beverage and liquid food industry\, drinktec brings the industry together in Munich every four years over five days. Solution providers and suppliers from all over the world meet national and global producers of beverages and liquid food. Manufacturer of raw materials and ingredients\, supplier of process technology and machinery for filling and packaging of beer\, soft drinks\, water\, fruit juice\, milk and liquid dairy products\, wine\, sparkling wine and spirits as well as ketchup\, soy sauce\, cooking oil and other liquid food products are all represented.
URL:https://italixdesigns.de/event/drinktec-2025/
LOCATION:Messe Munchen\, Germany\, Messe Munchen\, Germany
END:VEVENT
BEGIN:VEVENT
DTSTART;TZID=UTC:20250915T080000
DTEND;TZID=UTC:20250919T170000
DTSTAMP:20260421T225301
CREATED:20250606T085426Z
LAST-MODIFIED:20250606T085426Z
UID:7259-1757923200-1758301200@italixdesigns.de
SUMMARY:Schweissen-Schneiden 2025
DESCRIPTION:Join The Future\nAfter just two years\, SCHWEISSEN & SCHNEIDEN is back – earlier than usual\, before returning every four years from 2025. The entire international specialist world of joining\, cutting and surfacing technology will once again gather at MESSE ESSEN. \nUnder the guiding theme “Join the Future”\, the world’s leading trade fair in 2025 will once again present its unrivaled diversity along the entire value chain – and will thus become the central meeting place for top decision-makers\, experts and market leaders from all sectors. The focus will be on the topics that will shape the industry of tomorrow: Digitalization\, sustainability and recruiting skilled workers. \nWith the new Future Hub and the IF Digital Award \, visitors can expect two highlights. \nYou can look forward to a SCHWEISSEN & SCHNEIDEN that not only shows the current state of the art\, but also consistently looks to the future.
URL:https://italixdesigns.de/event/schweissen-schneiden-2025/
LOCATION:Messe Essen\, Essen\, Germany
END:VEVENT
BEGIN:VEVENT
DTSTART;TZID=UTC:20250909T080000
DTEND;TZID=UTC:20250914T170000
DTSTAMP:20260421T225301
CREATED:20250611T052520Z
LAST-MODIFIED:20250611T053006Z
UID:7285-1757404800-1757869200@italixdesigns.de
SUMMARY:IAA MOBILITY 2025
DESCRIPTION:  \n\nWelcome to the world’s largest mobility event!\n\nFrom September 9 to 14\, 2025\, Munich will become the central hub for mobility\, sustainability\, and technological innovation during IAA MOBILITY 2025 under the theme “It’s All About Mobility.” Be part of it!
URL:https://italixdesigns.de/event/iaa-mobility-2025/
LOCATION:Messe Munchen\, Germany\, Messe Munchen\, Germany
END:VEVENT
END:VCALENDAR